BEGIN:VCALENDAR
PRODID:NingEventWidget-v1
VERSION:2.0
METHOD:PUBLISH
BEGIN:VTIMEZONE
TZID:Asia/Bangkok
X-LIC-LOCATION:Asia/Bangkok
BEGIN:STANDARD
TZOFFSETFROM:+0700
TZOFFSETTO:+0700
TZNAME:ICT
DTSTART:19700101T000000
END:STANDARD
END:VTIMEZONE
BEGIN:VEVENT
UID:2988839:Event:3470742
DTSTAMP:20260425T221634Z
SUMMARY:นิทรรศการศิลปะชุด “ยิ
 มของพ่อ”
DESCRIPTION:นิทรรศการศิลปะชุด “ย
 ิ้มของพ่อ” ภาพแห่งแสง สร
 างแรงบันดาลใจ\r\nLove from Our Father throu
 gh His Smiles\r\nระหว่างวันที่ 1 ถึง 3
 1 เดือนธันวาคม พ.ศ. 2561 เวลา 9.00
 -16.00 น.\r\nณ ห้องศิลปนิทรรศมาร
 ศี พิพิธภัณฑ์วังสวนผักกา
 ด กรุงเทพมหานคร\r\nเปิดนิท
 รศการ วันเสาร์ที่ 1 ธันวา
 ม พ.ศ. 2561 เวลา 13.30-16.30 น. ประธานโ
 ดย คุณโจน จันได\r\nศิลปะสำห
 ับเด็ก วันเสาร์ที่ 8 ธันว
 คม พ.ศ. 2561 เวลา 13.00-16.00 น. \r\nฮีโร
 ่ของลูก วันเสาร์ที่ 15 ธัน
 าคม พ.ศ. 2561 เวลา 13.00-16.00 น. \r\nสีส
 นการเดินทาง วันเสาร์ที่ 
 22 ธันวาคม พ.ศ. 2561 เวลา 13.00-16.00 น. 
 \r\nลงทะเบียนอบรม https://goo.gl/forms/mRyb
 v7f8RJn4Hksz2\r\n\r\nLove from Our Father through His Smiles Art Exhib
 ition\r\nThe exhibition will be open on December 1, 2018, at 2 pm at S
 uan Pakkad Palace Museum.\r\nDisplay every day from December 1 to Dece
 mber 31, 2018, from 9 pm to 4 pm.\r\n\r\nภาพวาดชุด 
 ยิ้มของพ่อ” ใช้เทคนิควา
 เส้นสานด้วยดินสอบนกระด
 ษ ที่ธรรมดาและเรียบง่าย
 ห้มีพลัง เพราะการวาดเส้
 เป็นแก่นและหัวใจของการท
 ำงานศิลปะทุกแขนง การวาดเ
 ส้นคุมบรรยากาศแสงเงา เน้
 นในส่วนของพระพักตร์ให้โ
 ดเด่น สดใส สง่างาม ทรงแย
 มพระโอษฐ์ ให้ความปิติ อิ
 มสุขใจแก่คนที่ได้เห็น \r\
 nภาพแต่ละภาพต้องการสื่อแ
 ละแสดงให้เห็นถึงช่วงเวล
 อันสำคัญที่พ่อทรงงานหน
 กเพื่อพวกเราคนไทย เป็นศ
 นย์รวมจิตใจ คือแสงแห่งป
 ิธานให้ลูกคนไทย เป็นแรง
 ันดาลใจ และเป็นพลังในกา
 ใช้ชีวิต ให้เกิดสติและป
 ญญา สร้างคุณงามความดีตา
 หลักธรรมคำพ่อสอน “พอมี พ
 กิน เหลือก็แบ่งปัน” ตามห
 ลักเศรษฐกิจพอเพียง อีกทั
 ้งการรวมใจเป็นความรักหน
 ่งเดียวที่จะร่วมกันสร้
 งและพัฒนาประเทศไทยของเร
 าต่อไป\r\n\r\nอยากให้ทุกคนมา
 ับแรงบันดาลใจกันครับ\r\nศ
 ภเดช มหามาตร\n\nFor more information visit http
 ://www.portfolios.net/events/2988839:Event:3470742
DTSTART;TZID=Asia/Bangkok:20181201T000000
DTEND;TZID=Asia/Bangkok:20181231T235900
CATEGORIES:art, exhibition, painting
LOCATION:วังสวนผักกาด
WEBSITE:
URL:
CONTACT:
ORGANIZER;CN="NEWS PORTFOLIOS*NET":http://www.portfolios.net/profile/A
 dminNews
ATTACH;FMTTYPE="image/jpeg":http://storage.ning.com/topology/rest/1.0/
 file/get/137172705?profile=original
ATTENDEE;ROLE=REQ-PARTICIPANT;PARTSTAT=ACCEPTED;RSVP=TRUE;CN="NEWS POR
 TFOLIOS*NET":http://www.portfolios.net/profile/AdminNews
END:VEVENT
END:VCALENDAR
