BEGIN:VCALENDAR
PRODID:NingEventWidget-v1
VERSION:2.0
METHOD:PUBLISH
BEGIN:VTIMEZONE
TZID:Asia/Bangkok
X-LIC-LOCATION:Asia/Bangkok
BEGIN:STANDARD
TZOFFSETFROM:+0700
TZOFFSETTO:+0700
TZNAME:ICT
DTSTART:19700101T000000
END:STANDARD
END:VTIMEZONE
BEGIN:VEVENT
UID:2988839:Event:3219546
DTSTAMP:20260426T003233Z
SUMMARY:นิทรรศการแต้มสีสันวั
 สบาย...สบาย
DESCRIPTION:นิทรรศการแต้มสีสันว
 นสบาย...สบาย 8 พฤษภาคม – 30 มิ
 ถุนายน 2558\nขอเชิญชมนิทรรศก
 าร “แต้มสีสันวันสบาย...สบา
 ย”\nจัดแสดงผลงานภาพวาดกว
 า 100 ชิ้น จากปลายพู่กันของ
 กลุ่มผู้มีใจรักศิลปะ 36 ท่
 าน\nที่ฝึกฝนวาดภาพเป็นงา
 อดิเรกจนมีความชำนาญ เพื
 อเผยแพร่ผลงานศิลปะจากกล
 ุ่มคนหลากหลายอาชีพ\nซึ่ง
 ะท้อนถึงความสุขและความค
 ิดสร้างสรรค์ผ่านมุมมองข
 งแต่ละคน\nนิทรรศการจัดแส
 ดงระหว่างวันที่ 8 พฤษภาคม 
 – 30 มิถุนายน 2558 ณ หอศิลป์สม
 ด็จพระนางจ้าสิริกิติ์ พ
 ะบรมราชินีนาถ\nตลอดระยะเ
 ลาดำเนินงานของหอศิลป์ส
 เด็จพระนางเจ้าสิริกิติ์
  พระบรมราชินีนาถ\nที่ผ่าน
 าได้จัดแสดงผลงานศิลปกร
 มหลากหลายแขนง\nโดยเฉพาะผ
 งานที่โดดเด่นทั้งของศิ
 ปินไทยรุ่นใหม่และศิลปิน
 ที่ได้รับ\nการยกย่องเชิด
 ูเกียรติ ซึ่งส่วนใหญ่เป
 นที่รู้จักในแวดวงศิลปะเ
 ป็นอย่างดี\nอย่างไรก็ดีย
 งมีประชาชนทั่วไปจำนวนไม
 ่น้อยที่สนใจศิลปะการวาด
 าพ และมีความสามารถสร้าง
 รรค์ผลงานได้อย่างน่าชื
 มชม\nหอศิลป์สมเด็จพระนาง
 จ้าฯ\nจึงมีแนวคิดที่อยาก
 สนับสนุนผู้ที่สนใจศิลปะ
 ารวาดภาพเป็นงานอดิเรก\nใ
 ห้มีโอกาสนำผลงานที่สร้า
 สรรค์ไว้มาจัดแสดง\nเพื่อ
 ให้ประชาชนทั่วไปหันมาสน
 จในงานศิลปะมากขึ้น\nจึงจ
 ัดให้มีนิทรรศการ “แต้มสี
 สันวันสบาย...สบาย”\nโดยในค
 ั้งแรกนี้ประกอบด้วยผลงา
 นจากกลุ่มบุคคลหลากหลายส
 ขาอาชีพ ซึ่งยังคงประกอบ
 ุรกิจและเกษียณอายุแล้ว\n
 ร่วมกันนำผลงานภาพวาดที่\
 nผ่านการคัดเลือกโดยคณะกร
 รมการผู้ทรงคุณวุฒิ จำนวน
  109 ชิ้น จาก 185 ชิ้น มาจัดแสด
 \nผลงานส่วนใหญ่สร้างสรรค
 ์ขึ้นเพื่อการผ่อนคลายจา
 ความเคร่งเครียด\nกับภารก
 ิจประจำวัน จึงหยิบยกเอาเ
 นื้อหาเรื่องราวที่เรียบ
 ่าย\nไม่ซับซ้อน อาทิ ภาพท
 ศนียภาพอันสวยสดงดงามขอ
 ธรรมชาติ\nภาพมวลดอกไม้หล
 กสีสันในฤดูกาลต่างๆ\nและ
 ภาพบุคคลที่มีความประทับ
 จ ผ่านเทคนิคสีน้ำ สีอะคร
 ิลิค และอื่นๆ\nตามความถนั
 ของแต่ละคน เพื่อแสดงทัก
 ะทางด้านศิลปะการวาดภาพ\n
 และจุดประกายให้ผู้ชมทั่
 ไปเกิดความสนใจและอาจมี
 นวโน้มอยากฝึกฝนเรียนรู้
 ในอนาคตต่อไปด้วย\nนิทรรศ
 าร “แต้มสีสันวันสบาย...สบ
 ย” จัดแสดงระหว่างวันที่ 8
 \nพฤษภาคม – 30 มิถุนายน 2558 โดย
 เปิดให้เข้าชมทุกวัน ยกเว
 ้นวันพุธ\nตั้งแต่เวลา 10.00 – 
 19.00 น. ณ หอศิลป์สมเด็จพระนา
 เจ้าสิริกิติ์\nพระบรมราช
 ินีนาถ ถนนราชดำเนินกลาง 
 รุงเทพฯ\nสอบถามเพิ่มเติม
 รุณาติดต่อหอศิลป์สมเด็
 พระนางเจ้าสิริกิติ์ พระ
 รมราชินีนาถโทร.02-281-5360-1\n\nFor more 
 information visit http://www.portfolios.net/events/2988839:Event:32195
 46
DTSTART;TZID=Asia/Bangkok:20150508T000000
DTEND;TZID=Asia/Bangkok:20150630T235900
CATEGORIES:art, exhibition, painting
LOCATION:The Queen’s Gallery
WEBSITE:
URL:
CONTACT:02 281 5360-1
ORGANIZER:
ATTACH;FMTTYPE="image/jpeg":http://storage.ning.com/topology/rest/1.0/
 file/get/3023365484?profile=original
ATTENDEE;ROLE=REQ-PARTICIPANT;PARTSTAT=ACCEPTED;RSVP=TRUE;CN="NEWS POR
 TFOLIOS*NET":http://www.portfolios.net/profile/AdminNews
END:VEVENT
END:VCALENDAR
