BEGIN:VCALENDAR
PRODID:NingEventWidget-v1
VERSION:2.0
METHOD:PUBLISH
BEGIN:VTIMEZONE
TZID:Asia/Bangkok
X-LIC-LOCATION:Asia/Bangkok
BEGIN:STANDARD
TZOFFSETFROM:+0700
TZOFFSETTO:+0700
TZNAME:ICT
DTSTART:19700101T000000
END:STANDARD
END:VTIMEZONE
BEGIN:VEVENT
UID:2988839:Event:3168614
DTSTAMP:20260426T030250Z
SUMMARY:นิทรรศการ “มนุษย์ มนุษ
 ย์”
DESCRIPTION:(*) For English please scroll down\nนิทรรศก
 ร  “มนุษย์ มนุษย์”\nโดย ศา
 ตราจารย์เข็มรัตน์ กองสุ
  (ศิลปินแห่งชาติ)  จัดแสดง
 ะหว่างวันที่ 25 ตุลาคม - 12 พ
 ศจิกายน 2557  เวลา 10:00 - 18:00 น. เว
 นวันอาทิตย์ และวัดหยุดน
 กขัตฤกษ์ ณ PSG Art Gallery คณะจิตรก
 รรมประติมากรรมและภาพพิม
 ์ มหาวิทยาลัยศิลปากร วัง
 ท่าพระ กรุงเทพฯ  *กำหนดการ
 พิธีเปิดนิทรรศการ จะแจ้ง
 ให้ทราบในภายหลัง ขออภัยใ
 นความไม่สะดวกค่ะ*\n “Humans Humans
 \nArt Exhibition By Professor Khemrat Kongsuk (National Artist, 2012 
 : Sculpture)  The exhibition will be held during 25th October – 12th
  November 2014 Time : 10 am. – 6 pm. Close : Sunday and public holid
 ay. At PSG Art Gallery, Silpakorn University, Bangkok, Thailand.\n\nFo
 r more information visit http://www.portfolios.net/events/2988839:Even
 t:3168614
DTSTART;TZID=Asia/Bangkok:20141025T000000
DTEND;TZID=Asia/Bangkok:20141112T235900
CATEGORIES:art, exhibition, drawing
LOCATION:PSG Art Gallery
WEBSITE:
URL:
CONTACT:
ORGANIZER:
ATTACH;FMTTYPE="image/jpeg":http://storage.ning.com/topology/rest/1.0/
 file/get/3023307319?profile=original
ATTENDEE;ROLE=REQ-PARTICIPANT;PARTSTAT=ACCEPTED;RSVP=TRUE;CN="NEWS POR
 TFOLIOS*NET":http://www.portfolios.net/profile/AdminNews
END:VEVENT
END:VCALENDAR
