BEGIN:VCALENDAR
PRODID:NingEventWidget-v1
VERSION:2.0
METHOD:PUBLISH
BEGIN:VTIMEZONE
TZID:Asia/Bangkok
X-LIC-LOCATION:Asia/Bangkok
BEGIN:STANDARD
TZOFFSETFROM:+0700
TZOFFSETTO:+0700
TZNAME:ICT
DTSTART:19700101T000000
END:STANDARD
END:VTIMEZONE
BEGIN:VEVENT
UID:2988839:Event:3167386
DTSTAMP:20260426T041453Z
SUMMARY:นิทรรศการภาพถ่าย \"เกล
 อและมนุษย์\"
DESCRIPTION:(*) For English please scroll down\nนิทรรศก
 รภาพถ่าย: เกลือและมนุษย์
 \nขอเชิญมาสัมผัสนิทรรศกา
 ของผู้หญิงกลุ่มหนึ่งที่
 หลงใหลการถ่ายภาพ ซึ่งนำเ
 สนอภาพถ่ายเนกาตีฟเรื่อง
 าวเดียวกัน ตอนที่อยู่ด้
 ยกันในมุมมองที่แตกต่าง
 ันและเติมเต็มซึ่งกันและ
 กัน เรื่องราวในภาพคือเรื
 ่องราวเกี่ยวกับเกลือและ
 นุษย์ หรือก็คือนาเกลือแ
 วหัวหิน\nนี่คือการเดินทา
 งที่น่าตื่นตาตื่นใจและแ
 ลกใหม่ซึ่งอานิโก ปาลันก
  แคเธอลีน ไวต์ อิซาแบล ตู
 ารู มารี-คริสตีน ไรซ์ สเต
 านี เบรอตงน์ และสเตฟานี 
 นโต ขอมอบให้กับท่าน\nวันท
 ี่ : ระหว่างวันที่ 6-22 พฤศจิ
 ายนพิธีเปิดนิทรรศการวั
 ที่ 6 พฤศจิกายน เวลา 18.30 น.สถ
 านที่ : แกลเลอรีของสมาคมฝ
 ั่งเศสกรุงเทพ เลขที่ 179 ถ
 นวิทยุเข้าร่วมงานฟรีสอบ
 ถามข้อมูลเพิ่มเติมได้ที
  โทร. 02 670 42 22 - warittha.kraiwee@afthailande.org\nPhoto E
 xhibition: Of Salt and Men\nCome and see the work of passionate women 
 photographers who present in this exhibition their individual photos i
 llustrating a story they lived together but have perceived through the
 ir different and yet complementary visions. The story is “Du Sel et 
 des Hommes,” or of salt and men, about the salt marshes of Hua Hin.\
 nA moving and unusual voyage in which Anikó Palánky, Catherine White
 , Isabelle Touyarou, Marie-Christine Reitz, Stéphanie Breton and Sté
 phanie Noto are inviting you to take part.\nDates: From Nov. 6 through
  22Opening on Nov. 6 at 18:30Venue: Gallery of Alliance Française Ban
 gkok, 179 Thanon WitthayuFree admissionFor more information: 02 670 42
  22 - warittha.kraiwee@afthailande.org\n\nFor more information visit h
 ttp://www.portfolios.net/events/2988839:Event:3167386
DTSTART;TZID=Asia/Bangkok:20141106T000000
DTEND;TZID=Asia/Bangkok:20141122T235900
CATEGORIES:art, exhibition, photo, photography
LOCATION:Alliance Française Bangkok
WEBSITE:
URL:
CONTACT:02 670 42 22
ORGANIZER:
ATTACH;FMTTYPE="image/jpeg":http://storage.ning.com/topology/rest/1.0/
 file/get/3023306275?profile=original
ATTENDEE;ROLE=REQ-PARTICIPANT;PARTSTAT=ACCEPTED;RSVP=TRUE;CN="NEWS POR
 TFOLIOS*NET":http://www.portfolios.net/profile/AdminNews
END:VEVENT
END:VCALENDAR
