BEGIN:VCALENDAR
PRODID:NingEventWidget-v1
VERSION:2.0
METHOD:PUBLISH
BEGIN:VTIMEZONE
TZID:Asia/Bangkok
X-LIC-LOCATION:Asia/Bangkok
BEGIN:STANDARD
TZOFFSETFROM:+0700
TZOFFSETTO:+0700
TZNAME:ICT
DTSTART:19700101T000000
END:STANDARD
END:VTIMEZONE
BEGIN:VEVENT
UID:2988839:Event:3156276
DTSTAMP:20260420T053555Z
SUMMARY:นิทรรศการ “อมตะแห่งสำ
 ิด”
DESCRIPTION:ด้วยคุณค่าความงามอั
 เป็นนิรันดร์ของวัสดุ “ส
 ริด” นี้เอง ฮอฟอาร์ตจึงข
 อหยิบยกนำผลงานประติมากร
 มหล่อสำริด จากศิลปินไทย
 ี่มีชื่อเสียงหลากหลายท
 าน ทั้งระดับครูบาอาจารย
 และระดับอาวุโส รวมทั้งศ
 ลปินรุ่นใหม่ที่มีผลงานน
 ่าสนใจ มานำเสนอในนิทรรศก
 ารชุด “อมตะแห่งสำริด” หร
 อ “Bronze World” ขึ้น\nในนิทรรศกา
 ครั้งนี้ ฮอฟอาร์ต ได้รับ
 กียรติอย่างสูงที่ได้นำ
 ลงานอันทรงคุณค่าแก่วงกา
 รประติมากรรมไทยมาจัดแสด
  ทั้งจากครอบครัวศิลปินช
 ้นเยี่ยมอาวุโส อ.เขียน ย
 ้มศิริ ครอบครัวศิลปินแห
 งชาติ อ.ไพฑูรย์ เมืองสมบู
 รณ์ อีกทั้ง ศิลปินแห่งชา
 ิ อ.นนทิวรรธน์ จันทนะผลิน
  และที่น่าสนใจยิ่งกว่านั
 ้น ฮอฟอาร์ตยังได้รวบรวมผ
 ลงานประติมากรรมหล่อสำริ
 หลายชิ้น ซึ่งเป็น มาสเตอ
 ร์พีซที่มีเพียงชิ้นเดีย
 ในโลก และยังไม่เคยจัดแส
 งที่ไหนมาก่อน จากศิลปิน
 ื่อดังทั้งไทยและต่างปร
 เทศอีกหลายท่าน ซึ่งได้ไ
 ้วางใจมอบผลงานนำมาจัดแส
 ดงที่นี่ร่วมกันเป็นครั้
 แรกอีกด้วย\n“เราเชื่อว่า
 เหล่านักสะสมงานผลงานประ
 ิมากรรม จะต้องให้ความสน
 จเป็นอย่างมาก เพราะในงา
 นี้ เรายังได้เปิดตัวศิล
 ินรุ่นใหม่ที่มีฝีมืออี
  2 ท่าน คือ สัญชัย คงกล่อม 
 ละ ศราวุธ คำมูลชัย สองคลื
 ่นลูกใหม่ไฟแรง ซึ่งมีชั้
 นเชิงทางศิลปะสุดฝีมือ กล
 ่าวได้ว่าวงการประติมากร
 มไทยควรต้องจับตามองและ
 ม่ควรพลาดชมนิทรรศการครั
 ้งนี้เป็นอย่างยิ่ง” นายจ
 ารุต วงศ์คำจันทรา ผู้อำน
 ยการฮอฟอาร์ตกล่าว\nนิทรร
 การประติมากรรม “อมตะแห่
 สำริด” หรือ BRONZE WORLD เป็นนิท
 รศการที่รวบรวมผลงานประต
 ิมากรรมหล่อสำริดกว่า 50 ชิ
 ้นงาน จากศิลปินชั้นครู ศ
 ลปินรุ่นใหญ่ รุ่นกลาง รุ
 นเล็ก และจากนักสะสม รวมท
 ั้งหมดกว่า 10 ท่าน มาจัดแส
 งร่วมกันเป็นครั้งแรก โด
 จัดเปิดงานอย่างเป็นทางก
 ารในวันศุกร์ที่ 5 กันยายน 
 2557 และเปิดให้ชมฟรี พร้อมจ
 หน่าย ตั้งแต่วันที่ 5-30 กั
 ยายน 2557 เวลา 10.00 – 19.00 น. ทุกวั
  (หยุดวันนักขัตฤกษ์) ณ HOF ART S
 PACE ในโครงการ W DISTRICT ถนนสุขุม
 ิท ระหว่างซอย 69 – 71\nรายชื่
 ศิลปินให้เกียรติร่วมแสด
 งผลงาน\nศิลปินชั้นเยี่ยม
 าวุโส 1. อ.เขียน ยิ้มศิริ (โ
 ยความอนุเคราะห์จากครอบ
 รัว ยิ้มศิริ)\nศิลปินแห่ง
 าติ1. อ.ไพฑูรย์ เมืองสมบูร
 ์ (โดยความอนุเคราะห์จากค
 รอบครัว เมืองสมบูรณ์)2. อ.น
 ทิวรรธน์ จันทนะผลิน\nศิล
 ินรับเชิญ 1. ชิน ประสงค์2. อ
 ุศักดิ์ อาจธะขันธ์3. เริง
 ักดิ์ บุณยวาณิชย์กุล4. ปร
 ทีป คชบัว5. ธงชัย ศรีสุขปร
 ะเสริฐ6. วัชระ ประยูรคำ7. มา
 นพ สุวรรณปิณฑะ8. พไรวา ไรว
 \nศิลปินรับเชิญรุ่นใหม่1. 
 ัญชัย คงกล่อม2. ศราวุธ คำม
 ูลชัย\nศิลปินรับเชิญจากต
 างประเทศ1. VALERIE2. ARGUEYROLLES\n\nFor more informa
 tion visit http://www.portfolios.net/events/2988839:Event:3156276
DTSTART;TZID=Asia/Bangkok:20140905T000000
DTEND;TZID=Asia/Bangkok:20140926T235900
CATEGORIES:art, exhibition, sculpture
LOCATION:Hof Art Space At W District
WEBSITE:http://hof-artbangkok.com
URL:http://hof-artbangkok.com
CONTACT:
ORGANIZER:
ATTACH;FMTTYPE="image/jpeg":http://storage.ning.com/topology/rest/1.0/
 file/get/3023287555?profile=original
ATTENDEE;ROLE=REQ-PARTICIPANT;PARTSTAT=ACCEPTED;RSVP=TRUE;CN="NEWS POR
 TFOLIOS*NET":http://www.portfolios.net/profile/AdminNews
END:VEVENT
END:VCALENDAR
