BEGIN:VCALENDAR
PRODID:NingEventWidget-v1
VERSION:2.0
METHOD:PUBLISH
BEGIN:VTIMEZONE
TZID:Asia/Bangkok
X-LIC-LOCATION:Asia/Bangkok
BEGIN:STANDARD
TZOFFSETFROM:+0700
TZOFFSETTO:+0700
TZNAME:ICT
DTSTART:19700101T000000
END:STANDARD
END:VTIMEZONE
BEGIN:VEVENT
UID:2988839:Event:3156063
DTSTAMP:20260420T053555Z
SUMMARY:นิทรรศการ \"สรรพรส\"
DESCRIPTION:นิทรรศการชุด \"สรรพรส\
 " เข้าติดตั้งผลงาน เปิดงา
 วันเสาร์ที่ ๖ กันยายนนี้
  ตามรายละเอียดเปิดงานเสา
 ร์ที่ 6 กันยายน @ 17.30 น. ศิลปะ
 สดงสด & แสดงสดบทกวี ที่สถ
 บันปรีดี พนมยงค์> ทั ศ นี ย
  ภ า พ ข อ ง โ ล ก> บันทึกอัตช
 วประวัติของสรรพสิ่ง> โลก
 ีดเขียนข้อความ> และนิยาม
 ความรู้สึกนึกคิด> ด้วยภา
 ต่อเนื่องและพันเกี่ยว> ท
 ้งมวลคือความจริงแท้> แต่
 เราซึมซาบเพียงบางภาพ> เพ
 าะโลกมีมากกว่านั้น > เป็น
 มากกว่าหนึ่ง> ไม่ได้แค่ค
 ด แค่เห็น> แค่จับต้อง แค่
 ิ้มลอง> แต่มากกว่านั้น> ก
 โลกนี้มันช่าง ส ร ร พ ร ส . . .
 > จึงเรียนมาเพื่อเชิญชม>> 
 ิทรรศการ ศิลปะภาพถ่ายหล
 ยสายพรรณ> “ส ร ร พ ร ส”> ณ สถ
 บันปรีดี พนมยงค์ ซอยทองห
 ่อ สุขุมวิท 55 โทรศัพท์> 02 381 
 3860 – 1 และ 081 – 696 6735 (นายย่าม)>> วั
 นที่ 6 – 19 กันยายน2557> เปิดงาน
 เสาร์ที่ 6 @ 17.30 น. ศิลปะแสดงส
 ด & แสดงสดบทกวี>> สมพงษ์ ทวี
 ’, ไพศาล เปลี่ยนบางช้าง, จ
 ตติมา ผลเสวก, โดม วุฒิชัย,
 งคล เปลี่ยนบางช้าง, วิชช
 กร ตั้งไพบูลย์,> นพวรรณ สิ
 ิเวชกุล, ริญญาภัทร์ นิธิ
 ัทรอนันต์, > อัฐพร อารยานั
 ท์, ชิตะวา มุนินโท> ด้วยคว
 ามนับถือจาก คศช. (คณะศิลปิ
 นทั้งหลายชายหญิง)\n\nFor more informat
 ion visit http://www.portfolios.net/events/2988839:Event:3156063
DTSTART;TZID=Asia/Bangkok:20140906T000000
DTEND;TZID=Asia/Bangkok:20140919T235900
CATEGORIES:art, exhibition, photo, photography
LOCATION:Pridi Banomyong Institute
WEBSITE:http://www.pridiinstittute.com
URL:http://www.pridiinstittute.com
CONTACT:
ORGANIZER:
ATTACH;FMTTYPE="image/jpeg":http://storage.ning.com/topology/rest/1.0/
 file/get/3023289212?profile=original
ATTENDEE;ROLE=REQ-PARTICIPANT;PARTSTAT=ACCEPTED;RSVP=TRUE;CN="NEWS POR
 TFOLIOS*NET":http://www.portfolios.net/profile/AdminNews
END:VEVENT
END:VCALENDAR
