BEGIN:VCALENDAR
PRODID:NingEventWidget-v1
VERSION:2.0
METHOD:PUBLISH
BEGIN:VTIMEZONE
TZID:Asia/Bangkok
X-LIC-LOCATION:Asia/Bangkok
BEGIN:STANDARD
TZOFFSETFROM:+0700
TZOFFSETTO:+0700
TZNAME:ICT
DTSTART:19700101T000000
END:STANDARD
END:VTIMEZONE
BEGIN:VEVENT
UID:2988839:Event:3154387
DTSTAMP:20260420T083339Z
SUMMARY:นิทรรศการ \"สืบสานอุดม
 ารณ์ เล่าขานตำนาน สืบ นาค
 ะเสถียร\"
DESCRIPTION:นิทรรศการเส้นทางอนุ
 ักษ์บนร่างสืบ ครั้งที่ 24 
 \"สืบสานอุดมการณ์ เล่าขาน
 ำนาน สืบ นาคะเสถียร\"วันท
 ่ 1-2 กันยายน พ.ศ. 2557 ณ อาคารจ
 กรพันธ์เพ็ญศิริ มหาวิทย
 ลัยเกษตรศาสตร์ บางเขน\nกิ
 จกรรม\nในวันที่ 1 กันยายน พ.
 ศ. 2537-พิธีประกาศสดุดีรำลึก
 และพิธีวางพวงดอกไม้-กิจก
 รรมปลูกต้นไม้ ณ พุทธเกษต
 -เสวนา หัวข้อ”วิกฤตกระทิ
 และไม้พะยูงส่งผลกระทบอ
 ่างไรต่อระบบนิเวศ”โดย ด
 .กณิตา อุ่ยถาวร และ ดร.จงร
 ก วัชรินทร์รัตน์-เสวนา ห
 วข้อ”ทิศทางป่าไม้ไทย”โด
 ย รศ.ดร.อุทิศ กุฏอินทร์-จำ
 วดหน้าม่าน-การแสดงดนตรี F
 olk Song โดย หงา คาราวาน-พิธีจุ
 เทียน “ประสานใจอนุรักษ์
  ไว้อาลัยให้คุณสืบ นาคะเ
 สถียร\nวันที่ 2 กันยายน พ.ศ. 2
 537-เสวนา หัวข้อ”เรื่องเล่
  คนเฝ้าผ่า”โดยเจ้าหน้าท
 ่พิทักษ์ป่า-กิจกรรมแข่ง
 ันโต้วาที-เสวนา หัวข้อ”เ
 ลียวหลังเส้นทางอนุรักษ
 ”โดย ติ๊ก เจษฎาภรณ์ ผลดี , 
 โน้ต วัชรบูล ลี้สุวรรณ แล
  น.สพ.ภัทรพล มณีอ่อนสามาร
 ติดต่อสอบถามหรือติดตาม
 ่าวสารได้ที่ https://www.facebook.com/KUloveS
 ueb\n\nFor more information visit http://www.portfolios.net/events/298
 8839:Event:3154387
DTSTART;TZID=Asia/Bangkok:20140901T000000
DTEND;TZID=Asia/Bangkok:20140902T235900
CATEGORIES:art, exhibition
LOCATION:Kasetsart University
WEBSITE:http://www.facebook.com/KUloveSueb
URL:http://www.facebook.com/KUloveSueb
CONTACT:
ORGANIZER:
ATTACH;FMTTYPE="image/jpeg":http://storage.ning.com/topology/rest/1.0/
 file/get/3023286597?profile=original
ATTENDEE;ROLE=REQ-PARTICIPANT;PARTSTAT=ACCEPTED;RSVP=TRUE;CN="NEWS POR
 TFOLIOS*NET":http://www.portfolios.net/profile/AdminNews
END:VEVENT
END:VCALENDAR
