BEGIN:VCALENDAR
PRODID:NingEventWidget-v1
VERSION:2.0
METHOD:PUBLISH
BEGIN:VTIMEZONE
TZID:Asia/Bangkok
X-LIC-LOCATION:Asia/Bangkok
BEGIN:STANDARD
TZOFFSETFROM:+0700
TZOFFSETTO:+0700
TZNAME:ICT
DTSTART:19700101T000000
END:STANDARD
END:VTIMEZONE
BEGIN:VEVENT
UID:2988839:Event:3147221
DTSTAMP:20260420T070432Z
SUMMARY:การแสดง \"งามหน้า\"
DESCRIPTION:(*) For English please scroll down\nการแสดง
 ดี่ยวเต็มรูปแบบครั้งแร
  โดย ศศพินทุ์ ศิริวาณิชย์
 \n- ไม่ได้สวย - ไม่ได้เลือก -\
 nจากวรรคทองเรื่องด็อกเตอ
 ร์เฟาสตัส Was this the face that launched a thousand
  ships? สู่คนหนึ่งคนที่ไม่ได
 สวยที่สุดในสามโลกอย่างเ
 ฮเลนแห่งกรุงทรอย\nใบหน้า
 ี่ไม่งามพอที่ใครจะยกทัพ
 มาแย่งชิง จะไม่ถูกปล่อยล
 อยนวลให้ 'งามหน้า'และจะไม
 ได้เลือก\n5 - 23 กันยายน 2557 (ยก
 ว้นวันพุธ วันพฤหัสบดี แล
 ะวันเสาร์ที่ 6 กันยายน) เว
 า 20.00 น. ณ ห้องบีฟลอร์ สถาบั
 ปรีดีพนมยงค์ (ระหว่างทอง
 หล่อซ. 1 และ ซ. 3)\nราคาบัตร: 500 
 าท(โอนค่าบัตรก่อนมาชมลด
 หลือ 450 บาท)*ราคาพิเศษ* สำหร
 ับผู้ที่จองและโอนล่วงหน
 าภายในวันที่ 20 สิงหาคมนี
  400 บาท\nโอนค่าบัตรล่วงหน้
 ได้ที่: ธนาคารไทยพาณิชย์
  ชื่อบัญชี ศุรัณยา ปุญญพิ
 ักษ์ บัญชีออมทรัพย์ เลขท
 ี่ 045-4-28574-9\nจองบัตรและสอบถาม
 เพิ่มเติมหน้า Facebook Event นี้ ห
 ือ bfloortheatre@gmail.com หรือ 089-167-4039\nI DIDN'T LA
 UNCH A THOUSAND SHIPS 'งามหน้า'\nA solo performance by S
 asapin Siriwanij\n-Probe that unpretty thing beneath the surface-\nIns
 pired by Doctor Faustus' famous line \"Was this the face that launched
  a thousand ships?,\" the performance speaks on behalf of a person who
 's just not Helen of Troy.\nA face that just couldn't hope to launch a
 ny shipis to be buriedwithout a choice.\nDATE: September 5th-23th 2014
  (except Wednesdays, Thursdays, and Saturday 6th September)TIME: 8.00p
 m VENUE: B-floor Room, Pridi Banomyong Inst. (between Thonglor Soi 1 a
 nd 3)\nTICKETS: 500 THB at the door, and 450 THB for advanced transfer
 EARLY BIRD Tickets: 400THB for booking and fee transfer by August 20th
 , 2014\nAccount for fee transfer: Siam Commercial Bank, Name: Suranya 
 Poonyaphitak, Acc no. 045-4-28574-9\nReservations and more info:This e
 vent page, bfloortheatre@gmail.com, or 089-167-4039\n\nFor more inform
 ation visit http://www.portfolios.net/events/2988839:Event:3147221
DTSTART;TZID=Asia/Bangkok:20140905T000000
DTEND;TZID=Asia/Bangkok:20140923T235900
CATEGORIES:performance
LOCATION:B-floor
WEBSITE:http://www.facebook.com/Bfloor.theatre.group
URL:http://www.facebook.com/Bfloor.theatre.group
CONTACT:089 167 4039
ORGANIZER:
ATTACH;FMTTYPE="image/jpeg":http://storage.ning.com/topology/rest/1.0/
 file/get/3023276200?profile=original
ATTENDEE;ROLE=REQ-PARTICIPANT;PARTSTAT=ACCEPTED;RSVP=TRUE;CN="NEWS POR
 TFOLIOS*NET":http://www.portfolios.net/profile/AdminNews
END:VEVENT
END:VCALENDAR
