BEGIN:VCALENDAR
PRODID:NingEventWidget-v1
VERSION:2.0
METHOD:PUBLISH
BEGIN:VTIMEZONE
TZID:Asia/Bangkok
X-LIC-LOCATION:Asia/Bangkok
BEGIN:STANDARD
TZOFFSETFROM:+0700
TZOFFSETTO:+0700
TZNAME:ICT
DTSTART:19700101T000000
END:STANDARD
END:VTIMEZONE
BEGIN:VEVENT
UID:2988839:Event:3145539
DTSTAMP:20260420T125330Z
SUMMARY:นิทรรศการ \"คิริเมขล์\"
DESCRIPTION:' คิริเมขล์ ' ๒๕๕๔โดย ผ
 ้ช่วยศาสตราจารย์อภิชัย 
 ิรมย์รักษ์\n#PSGArtGallery คณะจิตร
 กรรมประติมากรรมและภาพพิ
 พ์ มหาวิทยาลัยศิลปากร ขอ
 เชิญชมนิทรรศการศิลปไทย โ
 ดยคณาจารย์ภาควิชาศิลปไท
  คณะจิตรกรรมประติมากรรม
 ละภาพพิมพ์ มหาวิทยาลัยศ
 ลปากรจัดแสดงระหว่างวัน
 ี่ ๔ - ๓๐ สิงหาคม ๒๕๕๗ เวลา 
 ๐:๐๐ - ๑๘:๐๐ น. เว้นวันอาทิต
 ย์ และวัดหยุดนักขัตฤกษ์ (
 ันแม่แห่งชาติ)พิธีเปิดน
 ทรรศการวันพฤหัสบดีที่ ๒
  สิงหาคม ๒๕๕๗ เวลา ๑๖:๐๐ น.
  PSG Art Gallery คณะจิตรกรรมประติม
 ากรรมและภาพพิมพ์ มหาวิทย
 าลัยศิลปากร วังท่าพระ กร
 งเทพฯ\n\nFor more information visit http://www.portfolios.n
 et/events/2988839:Event:3145539
DTSTART;TZID=Asia/Bangkok:20140804T000000
DTEND;TZID=Asia/Bangkok:20140830T235900
CATEGORIES:art, exhibition
LOCATION:PSG Art Gallery
WEBSITE:http://www.facebook.com/sangdeegallery
URL:http://www.facebook.com/sangdeegallery
CONTACT:081 021 9407
ORGANIZER:
ATTACH;FMTTYPE="image/jpeg":http://storage.ning.com/topology/rest/1.0/
 file/get/3023271868?profile=original
ATTENDEE;ROLE=REQ-PARTICIPANT;PARTSTAT=ACCEPTED;RSVP=TRUE;CN="NEWS POR
 TFOLIOS*NET":http://www.portfolios.net/profile/AdminNews
END:VEVENT
END:VCALENDAR
