BEGIN:VCALENDAR
PRODID:NingEventWidget-v1
VERSION:2.0
METHOD:PUBLISH
BEGIN:VTIMEZONE
TZID:Asia/Bangkok
X-LIC-LOCATION:Asia/Bangkok
BEGIN:STANDARD
TZOFFSETFROM:+0700
TZOFFSETTO:+0700
TZNAME:ICT
DTSTART:19700101T000000
END:STANDARD
END:VTIMEZONE
BEGIN:VEVENT
UID:2988839:Event:3143861
DTSTAMP:20260420T083338Z
SUMMARY:นิทรรศการ “เปลือก”
DESCRIPTION:(*) For English please scroll down\nนิทรรศก
 ร “เปลือก” โดย ไกรสิงห์ ส
 ดสงวน\nร่างกายมนุษย์ประก
 อบไปด้วยธาตุทั้ง 4 ดิน,น้ำ
 ,ลม,ไฟ มีการเจริญเติบโต มี
 อายุไข การเสื่อมสลายไปตา
 มกาลเวลาร่างกายเป็นเพีย
 รูปลักษณ์ภายนอก หรือ เปล
 ือกของมนุษย์เท่านั้น เป็
 นสิ่งที่มนุษย์ใช้ในการร
 บรู้ผัสสะต่างๆ รูป,รส,กล
 ่น,เสียง ซึ่งทำให้เกิดคว
 มรู้สึกนึกคิดในอารมณ์ ร
 ก,โลภ,โกรธ,หลง ส่งผลต่อจิ
 ใจมนุษย์ทั้งสิ้นล้วนเป
 น \"ธรรมะ\" ที่เกิดขึ้นกับม
 นุษย์ทุกคน เป็นธรรมชาติข
 องมนุษย์เรา หากเราเข้าใจ
  \"ธรรมะ\" ชีวิตก็จะดำเนินไ
 อย่างปกติสุข...\nณ ช่วงเวล
 หนึ่งของชีวิต ข้าพเจ้าร
 ้สึกตื่นเต้น เพลิดเพลิน
 ับการใช้ชีวิต ที่กำลังเ
 ิบโตได้เผชิญสิ่งแปลกใหม
 ่ในชีวิตอยู่ตลอดเวลา รู้
 สึกสนุกกับชีวิต มีความฝั
 น ความหวัง ที่สวยงาม รู้ส
 กขาดแคนทุกสิ่งทุกอย่าง 
 ยายามค้นหามาเติมเต็มให
 สมบูรณ์ทั้งเงินทอง ลาภย
  สรรเสริญ ชื่อเสียง และคว
 ามรัก อยู่ตลอดเวลา เป็นอ
 ู่เช่นนั้น\nณ ช่วงเวลาหนึ
 ่ง ข้าพเจ้า เผชิญกับความ
 ุกข์ ที่เป็นเสมือนกับดั
 ที่มืดมิดหาทางออกไม่เจอ
  ไม่สามารถดิ้นให้หลุดได้
  จมดิ่งอยู่ในความทุกข์นั
 ้น หมดเรี่ยวแรง สิ้นหวัง 
 มดสิ้นทุกความรู้สึกในต
 วตน มีเพียงอารมณ์ที่หม่
 หมอง เศร้าหงอยเหงาและหด
 ู่ใจ อยู่แต่ในทุกข์เช่น
 ั้น เปรียบเสมือนกองไฟที
 ครุกกรุ่น ลุกไหม้อยู่ภา
 ในร่างกายที่เป็นเพียงเป
 ลือกนอกไม่สามารถรับรู้ส
 ่งต่างๆได้ ความร้อนจากภ
 ยในเหมือนเถ้าถ่านที่หล
 มละลายเป็นเปลวไฟ ไอร้อน 
 ล็ดรอดออกมาทุกรูขุมขน ท
 กผัสสะ ตา หู จมูก ปาก เป็น
 เพียงช่องโปร่งของไฟ ห้วง
 เวลานั้นข้าพเจ้าเข้าใจล
 กซึ้งของคำว่า “ตกนรกทั้
 เป็น” ร่างกายเป็นเพียงซ
 ก หรือเปลือก ที่ตายแล้วข
 องชีวิต ณ ห้วงเวลาหนึ่งข
 าพเจ้ามองเห็นความทุกข์ 
 ละเข้าใจแล้วว่า ชีวิตมั
 เป็นเช่นนั้นเอง เมื่อเว
 าผ่านไปสิ่งหนึ่งบังเกิด
 ขึ้นอย่างน่าประหลาดใจ คื
 อ “สติ” ที่เป็นเหมือนหยด
 ้ำ ค่อยๆหยดลงบนกองไฟที่
 ้อนแรงทีละหยด...ที่ละหยด...
 จนไฟร้อนนั้นค่อยๆดับและ
 ย็นลงความทุกข์เริ่มบรร
 ทาจากหยดน้ำแห่งสติที่ทำ
 ให้เกิดสมาธิ และเกิดปัญญ
 า พิจารณาสิ่งต่างๆว่าแท้
 ที่จริงแล้ว ชีวิตมันเป็น
 เช่นนั้นเอง...จงดำเนินชีว
 ตอย่างมีสติต่อไป\n\nFor more informa
 tion visit http://www.portfolios.net/events/2988839:Event:3143861
DTSTART;TZID=Asia/Bangkok:20140823T000000
DTEND;TZID=Asia/Bangkok:20141024T235900
CATEGORIES:art, exhibition, painting
LOCATION:Whitespace Gallery Bangkok
WEBSITE:http://www.whitesp-ce.com
URL:http://www.whitesp-ce.com
CONTACT:
ORGANIZER:
ATTACH;FMTTYPE="image/jpeg":http://storage.ning.com/topology/rest/1.0/
 file/get/3023270323?profile=original
ATTENDEE;ROLE=REQ-PARTICIPANT;PARTSTAT=ACCEPTED;RSVP=TRUE;CN="NEWS POR
 TFOLIOS*NET":http://www.portfolios.net/profile/AdminNews
END:VEVENT
END:VCALENDAR
