BEGIN:VCALENDAR
PRODID:NingEventWidget-v1
VERSION:2.0
METHOD:PUBLISH
BEGIN:VTIMEZONE
TZID:Asia/Bangkok
X-LIC-LOCATION:Asia/Bangkok
BEGIN:STANDARD
TZOFFSETFROM:+0700
TZOFFSETTO:+0700
TZNAME:ICT
DTSTART:19700101T000000
END:STANDARD
END:VTIMEZONE
BEGIN:VEVENT
UID:2988839:Event:3136621
DTSTAMP:20260420T171303Z
SUMMARY:งาน “ต่างใจไทยเดียว”
DESCRIPTION:มีเพื่อน unfriend กันไปกี่
 คนแล้ว กี่ครอบครัวที่คุย
 กันไม่ได้ เพื่อนร่วมงาน 
 ี่คนที่มองหน้ากันไม่ติด
 \nเราปล่อยให้ความเห็นต่า
 ...ทำลายสิ่งที่เรามีร่วมก
 ันไปหรือไม่ ทั้งในครอบคร
 ัว...และในประเทศของเรา\nสั
 คมไทยเจ็บช้ำจากความขัดแ
 ย้งเกินพอแล้ว และทางเดีย
 วที่จะเดินต่อไปข้างหน้า 
 คือหันกลับมา เปิดใจรับฟั
 งกัน\n——————————————————
 —\nเราทำอะไรได้บ้าง เพื่อ
 พาสังคมไทยเดินหน้า ร่วมห
 าคำตอบที่งาน “ต่างใจไทยเ
 ดียว” มองทะลุความต่าง ให
 เห็นทางอยู่ร่วมกัน\nฟัง –
  ความคิดและประสบการณ์ของ
 คนที่มีส่วนร่วมเพื่อส่ว
 รวม ชม – นิทรรศการ เรียนร
 ้การรับฟังความเห็นที่แ
 กต่าง พบ – ดนตรีบนความต่า
 ง จากศิลปินที่ไม่เคยเล่น
 ร่วมเวทีกันมาก่อน ลงมือท
 ำ – ให้สังคมดีขึ้นกับกิจ
 รรรมอาสามากมาย\n14-17 กรกฎาค
  นี้ ที่ลานชั้น 1 เซ็นทรัล
 เวิลด์ ติดตามรายละเอียดเ
 พิ่มเติม ที่ Khon Thai Foundation www.facebook.c
 om/khonthaifoundation\n———————————————
 ————\nฟังความคิด ของ \" แกะ
 ำทำธุรกิจ blacksheep\" ประเสริฐ เ
 อี่ยมรุ่งโรจน์, จิตรนันท
  พิตรปรีชา, สมเกียรติ ตั้
 กิจวาณิชย์ จาก Thailand Development Researc
 h Institute (TDRI) , เดชรัต สุขกำเนิด, 
 ศิน เฉลิมลาภ Sasin Chalermlarp , อังค
 า นีละไพจิตร, “เจ้าชายผั
 ” นคร ลิปคุปตถาวร ,ชิ สุวิ
 าน ศิลปินปกาเกอะญอ, วัลล
  พิชญ์พงศา, ดนัย จันทร์เจ
 าฉาย, ดร. บัณฑูร เศรษฐศิโร
 ม์, ปรเมศวร์ มินศิริ, ธนบู
 รณ์ สมบูรณ์ จาก CreativeMOVE และคว
 ามคิดที่หลากหลายอีกมาก\n
 ัดโดย สำนักงานกองทุนสนั
 สนุนการสร้างเสริมสุขภาพ
  (สสส.) Thai Health Promotion Foundation, องค์กรต
 อต้านคอร์รัปชั่น, เครือข
 ่ายจิตอาสา Volunteerspirit , ธนาคารจ
 ิตอาสา JitArsa Bank , มูลนิธิส่งเส
 ริมการออกแบบอนาคตประเทศ
 ทย, เครือข่ายเดินหน้าปฏิ
 รูป - Reform Now Network, เครือข่ายพุท
 ิกา, มูลนิธิสยามกัมมาจล แ
 ละมูลนิธิเพื่อคนไทย\n\nFor more 
 information visit http://www.portfolios.net/events/2988839:Event:31366
 21
DTSTART;TZID=Asia/Bangkok:20140714T000000
DTEND;TZID=Asia/Bangkok:20140717T235900
CATEGORIES:exhibition, music
LOCATION:Central World
WEBSITE:http://www.facebook.com/khonthaifoundation
URL:http://www.facebook.com/khonthaifoundation
CONTACT:
ORGANIZER:
ATTACH;FMTTYPE="image/jpeg":http://storage.ning.com/topology/rest/1.0/
 file/get/3023260105?profile=original
ATTENDEE;ROLE=REQ-PARTICIPANT;PARTSTAT=ACCEPTED;RSVP=TRUE;CN="NEWS POR
 TFOLIOS*NET":http://www.portfolios.net/profile/AdminNews
END:VEVENT
END:VCALENDAR
