BEGIN:VCALENDAR
PRODID:NingEventWidget-v1
VERSION:2.0
METHOD:PUBLISH
BEGIN:VTIMEZONE
TZID:Asia/Bangkok
X-LIC-LOCATION:Asia/Bangkok
BEGIN:STANDARD
TZOFFSETFROM:+0700
TZOFFSETTO:+0700
TZNAME:ICT
DTSTART:19700101T000000
END:STANDARD
END:VTIMEZONE
BEGIN:VEVENT
UID:2988839:Event:3135238
DTSTAMP:20260420T202049Z
SUMMARY:นิทรรศการ \"มายาของภาพ
 ังขาร\"
DESCRIPTION:นิทรรศการมายาของภาพ
 ังขารวันที่ : 04 กรกฎาคม - 27 
 รกฎาคม 2557สถานที่: People's Gallery P1-P2 
 ชั้น 2โดย คุณสกล เต่ากล่ำ 
 ิธีเปิดงานในวันพฤหัสบดี
 ที่ 3 กรกฎาคม เวลา 18.00 น. ปัจจ
 ุบันกระแสนิยมจากต่างชาต
 เข้ามามีบทบาทในชีวิตคว
 มเป็นอยู่ของคนเรามากมาย
 เช่นการแต่งหน้าทาปาก ตกแ
 ต่งร่างกายให้ดูดี เข้ายุ
 คเข้าสมัย จนเราเองไม่สาม
 ารถที่จะแยกมันออกไปจากร
 บบการใช้ชีวิตในแต่ละวั
 ได้ รวมถึงสื่อหลายแขนงท
 ่มุ่งนำเสนอเรื่องราวเกี
 ่ยวกับการเสริมความงามขอ
 ร่างกายในรูปแบบต่างๆมา
 มายเช่น การทำศัลยกรรม กา
 ใช้บริการในสถาบันเสริม
 วามงามในรูปแบบต่างๆ อัน
 ่งผลให้มีบุคคลบางกลุ่มบ
 างชนชั้นมีพฤติกรรมที่เส
 สื่อมากเกินไป จนบางครั้
 ลืมตระหนักถึงสัจธรรมคว
 มเป็นจริงของร่างกายตนเอ
 ง โดยสร้างพฤติกรรมอันหลา
 กหลายที่คิดว่าจะช่วยปิด
 ัง เยียวยา บำรุง ฟื้นฟู แ
 ะตอบสนองความต้องการในร
 างกายตนเอง เพื่อให้เกิด
 วามงาม อนาคตต่อไปอาจจะก
 ่าวได้ว่า ริ้วรอยต่างๆท
 ่เกิดจากกาลเวลาก็เปรียบ
 เสมือนโรคที่จะสามารถเยี
 วยาและรักษาได้ ด้วยวิธี
 ดก็ได้ ซึ่งทุกสิ่งอย่าง
 ี้มนุษย์เป็นผู้สร้างค่
 นิยมขึ้นมาเองจนทำให้หลง
 ไปกับกายภายนอก จนบางครั้
 งไม่สามารถที่จะยอมรับใน 
 อัตลักษณ์ ที่แท้จริงของต
 นเองได้  แนวความคิดดังกล
 าว จึงเป็นแรงบันดาลใจใน
 ารสร้างสรรค์ผลงานชุดนี้
 ขึ้นมา เพื่อ สะท้อน ประชด
 ระชัน เสียดสี ในเนื้อหาเ
 รื่องราวของค่านิยมที่เข
 ามามีบทบาทในการใช้ชีวิ
 ของคนในยุคสมัยปัจจุบันท
 ี่เกี่ยวกับความงามจนทำใ
 ้คนเราไม่สามารถแยกแยะ ต
 ะหนักรู้ จนหลงลืมมัวเมา
 ปกับการใช้ชีวิตที่มีค่
 นิยมเหล่านี้แฝงอยู่ในชี
 วิตประจำวัน\n\nFor more information visit http:/
 /www.portfolios.net/events/2988839:Event:3135238
DTSTART;TZID=Asia/Bangkok:20140704T000000
DTEND;TZID=Asia/Bangkok:20140727T235900
CATEGORIES:art, exhibition, painting
LOCATION:Bangkok Art and Culture Centre
WEBSITE:http://bacc.or.th
URL:http://bacc.or.th
CONTACT:02 214 6630-8
ORGANIZER:
ATTACH;FMTTYPE="image/jpeg":http://storage.ning.com/topology/rest/1.0/
 file/get/3023256203?profile=original
ATTENDEE;ROLE=REQ-PARTICIPANT;PARTSTAT=ACCEPTED;RSVP=TRUE;CN="NEWS POR
 TFOLIOS*NET":http://www.portfolios.net/profile/AdminNews
END:VEVENT
END:VCALENDAR
