BEGIN:VCALENDAR
PRODID:NingEventWidget-v1
VERSION:2.0
METHOD:PUBLISH
BEGIN:VTIMEZONE
TZID:Asia/Bangkok
X-LIC-LOCATION:Asia/Bangkok
BEGIN:STANDARD
TZOFFSETFROM:+0700
TZOFFSETTO:+0700
TZNAME:ICT
DTSTART:19700101T000000
END:STANDARD
END:VTIMEZONE
BEGIN:VEVENT
UID:2988839:Event:2994883
DTSTAMP:20260422T161949Z
SUMMARY:การแสดง \"ทุกย่างก้าวย
 อมมีความหมาย นิ้วที่กรี
 กรายบอกถึงภาษา\"
DESCRIPTION:งาน: การแสดงเต้นร่วม
 มัย ประกอบกับดนตรีร่วมส
 ัย ผลงานจากการร่วมงานขอ
  2 ศิลปินศิลปาธร พิเชษฐ์ ก
 ั่นชื่น และ ณัฐ ยนตรรักษ
  ชื่อการแสดง: ทุกย่างก้าว
 ย่อมมีความหมาย นิ้วที่กร
 ีดกรายบอกถึงภาษา (Move with meanings)\
 nโดย: Pichet Klunchun Dance company ทีมศิลปิน
 ักเต้นมืออาชีพผู้มากปร
 สบการณ์และมากความสามารถ
 นาโดย ศิลปินศิลปาธรสาขาศ
 ิลปะการแสดง พิเชษฐ์ กลั่
 ชื่น ประกอบกับผลงานเพลง
 ่วมสมัยเรียบเรียงโดย ศิ
 ปินศิลปาธรสาขาคีตศิลป์ 
 ัฐ ยนตรรักษ์\nวันที่: พฤหั
 บดีที่ 5 ธ.ค. ถึง วันอาทิตย
 ที่ 8 ธ.ค. 2556\nเวลา: พฤหัสบดีท
 ี่ 5 ธ.ค. เวลา 19:30 น.\nศุกร์ที่ 6 
 ธ.ค. เวลา 19:30 น.\nเสาร์ที่ 7 ธ.ค. 
 เวลา 19:30 น.\nอาทิตย์ที่ 8 ธ.ค. เ
 วลา 14:00 น.\nสถานที่: ศาลาสุทธ
 ิริโสภา (ซอยลาดพร้าว 41 แย
  7 -2) เปิดตัวการแสดงเต้นร่
 มสมัย “ทุกย่างก้าวย่อมม
 ความหมาย นิ้วที่กรีดกรา
 บอกถึงภาษา” (Move with meanings) ครั้
 แรก ณ ศาลาสุทธสิริโสภา หอ
 แสดงออกแบบโดยนักเปียโน ศ
 ิลปินศิลปาธรสาขาคีตศิลป
  ณัฐ ยนตรรักษ์ เป็นการแส
 งของทีมนักเต้นมีออาชีพท
 ี่มากความสามารถจาก Pichet Klunchun
  Dance Company ประกอบบทเพลงเดี่ยว
 ปียโนร่วมสมัยเรียบเรีย
 โดยอาจารย์ณัฐ ยนตรรักษ์ 
 ล่าถึงความรักของทศกัณฐ
  ในมิติต่างๆ สะท้อนมุมมอ
 ที่น่าสนใจ ว่าด้วยท้ายท
 ่สุดแล้วยักษ์ทศกัณฐ์นั
 นก็มีหัวใจที่ละเอียดอ่อ
 นไม่ต่างจากตัวละครใดในว
 รณกรรม มหากาพย์ รามเกียร
 ติ์\nการแสดงจะเริ่มต้นด้
 ยการบรรเลงเดี่ยวเปียโนข
 อง ณัฐ ยนตรรักษ์ ในบทเพลง
 วานซึ้ง เพลง “กลิ่นนาง” 
 ระพันธ์โดย ฯพณฯพลเอกเปร
  ติณสูลานนท์ ถ่ายทอดโดยก
 รเต้นเดี่ยวของ พิเชษฐ์ ก
 ลั่นชื่น\nตามด้วยบทเพลงเ
 ียบเรียงและประพันธ์โดย 
 ัฐ ยนตรรักษ์ และการแสดงจ
 กทีม Pichet Klunchun Dance Company ที่น่าตื
 นตาตื่นใจอีกมากมาย\nที่น
 ั่งจากัด\nสนใจติดต่อสารอ
 ที่นั่งได้ที่ศาลาสุทธสิ
 ริโสภา\nโทร: 02-541-8662 หรือ 080-407-8231\n
 อีเมล: salasudasirisobha@gmail.com\nWebsite: www.salasudasir
 isobha.com\nFacebook : ศาลาสุทธสิริโสภ
  Sala Sudasiri Sobha\n\nFor more information visit http://www.portfol
 ios.net/events/2988839:Event:2994883
DTSTART;TZID=Asia/Bangkok:20131205T000000
DTEND;TZID=Asia/Bangkok:20131208T235900
CATEGORIES:performance
LOCATION:Sala Sudasiri Sobha
WEBSITE:http://www.salasudasirisobha.com
URL:http://www.salasudasirisobha.com
CONTACT:02 541 8662, 080 407 8231
ORGANIZER:
ATTACH;FMTTYPE="image/jpeg":http://storage.ning.com/topology/rest/1.0/
 file/get/3023164484?profile=original
ATTENDEE;ROLE=REQ-PARTICIPANT;PARTSTAT=ACCEPTED;RSVP=TRUE;CN="NEWS POR
 TFOLIOS*NET":http://www.portfolios.net/profile/AdminNews
END:VEVENT
END:VCALENDAR
