BEGIN:VCALENDAR
PRODID:NingEventWidget-v1
VERSION:2.0
METHOD:PUBLISH
BEGIN:VTIMEZONE
TZID:Asia/Bangkok
X-LIC-LOCATION:Asia/Bangkok
BEGIN:STANDARD
TZOFFSETFROM:+0700
TZOFFSETTO:+0700
TZNAME:ICT
DTSTART:19700101T000000
END:STANDARD
END:VTIMEZONE
BEGIN:VEVENT
UID:2988839:Event:2877270
DTSTAMP:20260420T122615Z
SUMMARY:นิทรรศการ “โลกาภิวัฒน
 ”
DESCRIPTION:นิทรรศการการประกวดจ
 ตรกรรมเอเซียพลัส ครั้งท
 ่ 3\nหัวข้อ “โลกาภิวัฒน์”\n4
  – 30 กรกฎาคม 2556\nบริษัทหลักท
 ัพย์ เอเซีย พลัส จำกัด(มห
 ชน) จัดการประกวดจิตรกรรม
 เอเซีย พลัส ครั้งที่ 3 ขึ้
  เพื่อเฟ้นหาสุดยอดผลงาน
 ิตรกรรมภายใต้หัวข้อ \"โลก
 าภิวัฒน์\" โดยครั้งนี้มีผ
 ้สนใจส่งผลงานเข้าร่วมก
 รประกวดมากถึง 195 ผลงาน มีผ
 ลงานที่ได้รับรางวัลจำนว
  5 ผลงาน และเข้าร่วมแสดง 50 
 ผลงาน รวมทั้งสิ้น 55 ผลงาน 
 ึ่งทางบริษัทหลักทรัพย์ 
 อเซีย พลัส จำกัด (มหาชน) จ
 นำมาจัดแสดงนิทรรศการ ณ ห
 ศิลป์สมเด็จพระนางเจ้าส
 ริกิติ์ พระบรมราชินีนาถ 
 ะหว่างวันที่ 4 - 30 กรกฎาคม 25
 56 โดยพิธีเปิดนิทรรศการจั
 ขึ้นในวันที่ 4 กรกฎาคม 2556 
 วลา 15.00 น.\nนับเป็นอีกหนึ่ง
 วทีสำคัญในการพิสูจน์ควา
 มสามารถของศิลปินรุ่นใหม
  สำหรับการประกวดจิตรกรร
 เอเซีย พลัส ซึ่งได้รับคว
 ามสนใจจากผู้ส่งผลงานเข้
 ประกวดมากขึ้นทุกปี โดยเ
 พาะศิลปินคลื่นลูกใหม่ท
 ้งในระดับนิสิต นักศึกษา 
 ละศิลปินอิสระ โดยในปี 2556 
 ี้ เป็นครั้งที่ 3 ของการจ
 ดประกวดได้กำหนดหัวข้อผ
 งานที่มีความร่วมสมัยกับ
 สภาพการณ์ในปัจจุบันว่า “
 โลกาภิวัฒน์” ซึ่งหัวข้อผ
 ลงานที่กำหนดนั้นแตกต่าง
 ันไปในแต่ละปี ทั้งนี้เพ
 ่อกระตุ้นให้ผู้สร้างสร
 ค์ผลงานเกิดความคิดและแร
 งบันดาลใจ ผสมผสานกับจินต
 นาการสื่อผ่านงานศิลป์ที
 มีเอกลักษณ์เฉพาะตน\nผลงา
 นที่นำมาจัดแสดงในนิทรรศ
 าร “การประกวดจิตรกรรมเอ
 ซีย พลัส ครั้งที่ 3” คณะกร
 รมการได้พิจารณาคัดเลือก
 ละตัดสินผลงานอย่างเป็น
 างการ เมื่อวันที่ 29 เมษาย
  2556 ที่ผ่านมา โดยได้รับเก
 ยรติจากศิลปินชั้นครูขอ
 วงการศิลปะ 4 ท่าน คือ ถวัล
 ์ ดัชนี เฉลิมชัย โฆษิตพิ
 ัฒน์ อิทธิพล ตั้งโฉลก และ
 สมศักดิ์ รักษ์สุวรรณ ร่ว
 ด้วย ดร.ก้องเกียรติ โอภาส
 วงการ และ ณินทิรา โสภณพนิ
  จากบริษัทหลักทรัพย์ เอเ
 ซีย พลัส จำกัด (มหาชน) เป็น
 รรมการร่วมในการตัดสินก
 รประกวด\n\nFor more information visit http://www.portfo
 lios.net/events/2988839:Event:2877270
DTSTART;TZID=Asia/Bangkok:20130704T000000
DTEND;TZID=Asia/Bangkok:20130730T235900
CATEGORIES:art, exhibition, painting
LOCATION:The Queen's Gallery
WEBSITE:
URL:
CONTACT:02 281 5360-1
ORGANIZER:
ATTACH;FMTTYPE="image/jpeg":http://storage.ning.com/topology/rest/1.0/
 file/get/3023099079?profile=original
ATTENDEE;ROLE=REQ-PARTICIPANT;PARTSTAT=ACCEPTED;RSVP=TRUE;CN="NEWS POR
 TFOLIOS*NET":http://www.portfolios.net/profile/AdminNews
END:VEVENT
END:VCALENDAR
