BEGIN:VCALENDAR
PRODID:NingEventWidget-v1
VERSION:2.0
METHOD:PUBLISH
BEGIN:VTIMEZONE
TZID:Asia/Bangkok
X-LIC-LOCATION:Asia/Bangkok
BEGIN:STANDARD
TZOFFSETFROM:+0700
TZOFFSETTO:+0700
TZNAME:ICT
DTSTART:19700101T000000
END:STANDARD
END:VTIMEZONE
BEGIN:VEVENT
UID:2988839:Event:2771762
DTSTAMP:20260425T040406Z
SUMMARY:นิทรรศการ “ผ่อบ้าน ฮัก
 วัด อนุรักษ์ทรายมูลเมือง
 ”
DESCRIPTION:“ผ่อบ้าน ฮักวัด อนุร
 กษ์ทรายมูลเมือง”\n งานวัฒ
 นธรรมชุมชนเพื่อฟื้นฟูวิ
 ีชีวิตอันงดงามของชาวย่
 นแจ่งขะต้ำ และการบรูณะส
 าปัตยกรรมที่มีคุณค่าของ
 วัด\nอันได้แก่ หอไตรอายุร
 วม ๑๐๐ ปี และอาคารกุฎิไม
 กึ่งปูน รูปแบบโคโลโลเนี
 น ที่หลงเหลือเพียงแห่งเ
 ียวในเขตเวียงเก่า\nความส
 คัญของงานนี้คือ เป็นงาน
 ัฒนธรรมที่จัดขึ้นจากคว
 มร่วมไม้ร่วมมือของภาคปร
 ะชาชน\nมีแก่นหลักการทำงา
 คือชาวบ้านชุมชนวัดทรายม
 ูลเมือง และชาวย่านแจ่งขะ
 ต้ำ ร่วมกับนักศึกษาคณะวิ
 จิตรศิลป์ มหาวิทยาลัยเชี
 ยงใหม่\nและโครงการฟื้นบ้
 น ย่าน เวียงเชียงใหม่ ภาย
 ในงานจะมีการเปิดพิพิธภั
 ฑ์ชุมชน ที่เก็บรวบรวมขอ
 เก่าของโบราณที่สวยงามแ
 ะทรงคุณค่า\nการแสดงฟ้อน แ
 ละซอพื้นเมือง ซุ้มอาหารก
 าดหมั้ว โดย แม่ค้าแม่กาด
 าก กาดหมั้ว กาดเมือง (แม่
 ้าขายอาหารพื้นเมืองตัวแ
 ทนจากชุมชนเวียงเก่า),\nการ
 แสดงตีกลองสะบัดชัย ฯลฯ ง
 นจัดขึ้นในวันที่ 9 มีนาคม
  2556 ณ วัดทรายมูลเมือง เริ่
 ตั้งแต่ เวลา บ่าย ๔ โมงเย
 น เป็นต้นไป ยาวไปถึงสองท
 ่ม\nจึงใคร่ขอเรียนเชิญทุ
 กท่านที่รักเวียงเก่า และ
 รักที่จะสนับสนุนคนเวียง
 ก่า ให้ได้มีโอกาสดูแลพื
 นที่ให้ดำรงความงดงามอย
 างยั่งยืนต่อไป พบกันตาม
 ันและเวลาดังกล่าว ไปช่ว
 กันบอกรักเวียงของเราด้ว
 ยการลงมือทำไปด้วยกัน\n\nFor mo
 re information visit http://www.portfolios.net/events/2988839:Event:27
 71762
DTSTART;TZID=Asia/Bangkok:20130309T000000
DTEND;TZID=Asia/Bangkok:20130309T235900
CATEGORIES:art, exhibition, culture
LOCATION:วัดทรายมูลเมือง
WEBSITE:
URL:
CONTACT:
ORGANIZER:
ATTACH;FMTTYPE="image/jpeg":http://storage.ning.com/topology/rest/1.0/
 file/get/3023050350?profile=original
ATTENDEE;ROLE=REQ-PARTICIPANT;PARTSTAT=ACCEPTED;RSVP=TRUE;CN="NEWS POR
 TFOLIOS*NET":http://www.portfolios.net/profile/AdminNews
END:VEVENT
END:VCALENDAR
