BEGIN:VCALENDAR
PRODID:NingEventWidget-v1
VERSION:2.0
METHOD:PUBLISH
BEGIN:VTIMEZONE
TZID:Asia/Bangkok
X-LIC-LOCATION:Asia/Bangkok
BEGIN:STANDARD
TZOFFSETFROM:+0700
TZOFFSETTO:+0700
TZNAME:ICT
DTSTART:19700101T000000
END:STANDARD
END:VTIMEZONE
BEGIN:VEVENT
UID:2988839:Event:2402709
DTSTAMP:20260424T232742Z
SUMMARY:นิทรรศการ \"{แต่ง-งาน} : ต
 แต่งงานด้วยความคิด\"
DESCRIPTION:CREATIVE ARTS 24th THESIS EXHIBITION 2012\n\nFaculty of Fi
 ne and Applied Arts\nDepartment Of Creative Arts\n\nProudly Present\n=
 ========================\n{แต่ง-งาน} : ตกแต่
 งานด้วยความคิด\nนิทรรศกา
 แสดงโครงการการศิลปนิพน
 ์\nของนิสิตชั้นปีที่ 4 ภาค
 ิชานฤมิตศิลป์ รุ่นที่ 24\n
 ณะศิลปกรรมศาสตร์\nจุฬาลง
 รณ์มหาวิทยาลัย\n\nวันที่ 2-4
  เมษายน 2555\nพิธีเปิด 2 เมษาย
  2555\nเวลา 18:00 น\nCentral world ชั้น 1 บริ
 เวณ Atrium Zone\n\n2-4 April, 2012\n18:00 Opening ceremony\nAt C
 entral World Department Store1st Floor, Atrium Zone\n\nFor more inform
 ation visit http://www.portfolios.net/events/2988839:Event:2402709
DTSTART;TZID=Asia/Bangkok:20120402T000000
DTEND;TZID=Asia/Bangkok:20120404T235900
CATEGORIES:art, exhibition, thesis
LOCATION:Central World
WEBSITE:http://www.facebook.com/narumitthesis24
URL:http://www.facebook.com/narumitthesis24
CONTACT:
ORGANIZER:
ATTACH;FMTTYPE="image/jpeg":http://storage.ning.com/topology/rest/1.0/
 file/get/3022893141?profile=original
ATTENDEE;ROLE=REQ-PARTICIPANT;PARTSTAT=ACCEPTED;RSVP=TRUE;CN="NEWS POR
 TFOLIOS*NET":http://www.portfolios.net/profile/AdminNews
END:VEVENT
END:VCALENDAR
