BEGIN:VCALENDAR
PRODID:NingEventWidget-v1
VERSION:2.0
METHOD:PUBLISH
BEGIN:VTIMEZONE
TZID:Asia/Bangkok
X-LIC-LOCATION:Asia/Bangkok
BEGIN:STANDARD
TZOFFSETFROM:+0700
TZOFFSETTO:+0700
TZNAME:ICT
DTSTART:19700101T000000
END:STANDARD
END:VTIMEZONE
BEGIN:VEVENT
UID:2988839:Event:1742411
DTSTAMP:20260422T222547Z
SUMMARY:นิทรรศการ “ศิลปฎิปทา”
DESCRIPTION:“ศิลปฎิปทา” เกิดจากค
 วามมุ่งมั่นศรัทธาเป็นทา
 เดินที่มีความแน่วแน่ตั
 งใจและเด็ดเดี่ยวของศิลป
 ิน 9 ท่าน เพื่อที่จะสร้างส
 รรค์ผลงานศิลปะให้เกิดคุ
 ค่า และส่งผลให้ก่อเกิดป
 ะโยชน์ต่อพระพุทธศาสนา แ
 ะสาธารณประโยชน์โดยมีข้
 วัตรปฏิบัติกระทำอย่างสม
 ่ำเสมอ เพื่อต้องการแสดงถ
 ึงพลังศรัทธาต่อพระพุทธศ
 สนาโดยน้อมนำคำสอน การปร
 พฤติปฏิบัติ และแรงบันดา
 ใจต่างๆ จากพุทธปรัชญา แป
 ลค่าตีความในเชิงสร้างสร
 ค์ กระบวนความคิด รูปแบบ 
 ทคนิคเฉพาะของแต่ละท่าน 
 ป็นผลงานศิลปะระยะเวลา 6-28 
 กรกฎาคม 2554เปิดนิทรรศการ 13 
 รกฎาคม 2554 เวลา 15.30สถานที่จ
 ดนิทรรศการ : พิพิธภัณฑ์สถ
 านแห่งชาติ หอศิลป์ ถนนเจ
 าฟ้า ติดต่อสอบถามเพิ่มเ
 ิม :084 023 3193, chan.ribhing@gmail.com\n\nFor more information 
 visit http://www.portfolios.net/events/2988839:Event:1742411
DTSTART;TZID=Asia/Bangkok:20110706T000000
DTEND;TZID=Asia/Bangkok:20110728T235900
CATEGORIES:art, exhibition
LOCATION:The National Gallery
WEBSITE:http://www.national-gallery.go.th
URL:http://www.national-gallery.go.th
CONTACT:084 023 3193
ORGANIZER:
ATTACH;FMTTYPE="image/jpeg":http://storage.ning.com/topology/rest/1.0/
 file/get/3022757806?profile=original
ATTENDEE;ROLE=REQ-PARTICIPANT;PARTSTAT=ACCEPTED;RSVP=TRUE;CN="NEWS POR
 TFOLIOS*NET":http://www.portfolios.net/profile/AdminNews
END:VEVENT
END:VCALENDAR
