BEGIN:VCALENDAR
PRODID:NingEventWidget-v1
VERSION:2.0
METHOD:PUBLISH
BEGIN:VTIMEZONE
TZID:Asia/Bangkok
X-LIC-LOCATION:Asia/Bangkok
BEGIN:STANDARD
TZOFFSETFROM:+0700
TZOFFSETTO:+0700
TZNAME:ICT
DTSTART:19700101T000000
END:STANDARD
END:VTIMEZONE
BEGIN:VEVENT
UID:2988839:Event:1549787
DTSTAMP:20260422T235326Z
SUMMARY:นิทรรศการภาพถ่าย \"แปล
 ใหม่ และ/หรือ คุ้นเคย\"
DESCRIPTION:“ช่างถ่ายภาพสามารถส
 มผัสและบรรยายวัฒนธรรมห
 ือสังคมใดสังคมหนึ่งที่เ
 ขาอยู่ ในขณะที่ถูกมองว่า
 เป็นคนแปลกประหลาดได้อย่
 งไร”จากการตั้งคำถามนี้
 ำให้ผู้ดูแลพิพิธภัณฑ์แล
 ะผู้เชี่ยวชาญการถ่ายภาพ
 นทวีปเอเชีย โวล์ฟกัง เบล
 ล์วิงเคลได้คัดเลือกผลงา
 ของนักถ่ายภาพจากโลกตะว
 นตกจำนวน 9 คน ซึ่งพวกเขาม
 สิ่งที่เหมือนกันอยู่สิ่
 งหนึ่งนั่นคือ พวกเขาอาศั
 ยและทำงานในทวีปเอเชียคว
 มพิเศษของงานนิทรรศการน
 ้อยู่ที่การค้นหามูลเหตุ
 ของแต่ละปัจเจกบุคคล รวมถ
 ึงอัตวิสัยในการรู้สำนึก 
 เป้าหมายในการลดสามัญทัศ
 ์ความเป็นเอเชีย จะถูกสะ
 ้อนไปในแผ่นภาพของ 9 มุมม
 งที่แตกต่างกัน ซึ่งมีตั
 งแต่ความเข้าใจตามแบบดั้
 งเดิมหรือบทรายงานภาพวาร
 าร การเข้าถึงทางนัยความ
 ิด ไปจนถึงการบรรยายเรื่
 งราวที่เชื่อมโยงกับบทก
 ี แน่นอนว่าหัวใจสำคัญขอ
 นิทรรศการจะเกิดมีปฏิสัม
 พันธ์กันระหว่างความเป็น
 นุษย์กับสภาวะแวดล้อมขอ
 เมืองที่ขยายตัวไปอย่างร
 วดเร็ว แต่คำถามสำคัญกลับ
 อยู่ที่ว่า ช่างภาพเหล่าน
 ี้สามารถก้าวผ่านระหว่าง
 ลกแห่งความแปลกประหลาดแ
 ะความคุ้นเคยได้หรือไม่ 
 ม้ว่าพวกเขาเหล่านี้จะมอ
 งตัวเองว่าคุ้นเคยเป็นอย
 างดีกับเอเชียอยู่ก็ตาม 
 ต่ถึงกระนั้นพวกเขาก็ยั
 คงถูกมองเป็นคนต่างชาติเ
 ช่นเดิม นิทรรศการภาพถ่า
 ครั้งนี้ จัดแสดงระหว่าง
 ันที่ 4 - 30 มิถุนายน พ.ศ. 2554 ชั
 น 4 หอศิลปวัฒนธรรมแห่งกร
 งเทพมหานคร(พิธีเปิด 3 มิถ
 นายน พ.ศ. 2554 เวลา 18.00 น.)\n\nFor more info
 rmation visit http://www.portfolios.net/events/2988839:Event:1549787
DTSTART;TZID=Asia/Bangkok:20110603T000000
DTEND;TZID=Asia/Bangkok:20110630T235900
CATEGORIES:art, exhibition, photography
LOCATION:Bangkok Art and Culture Centre (BACC)
WEBSITE:http://www.bacc.or.th
URL:http://www.bacc.or.th
CONTACT:02 214 6630-8
ORGANIZER:
ATTACH;FMTTYPE="image/jpeg":http://storage.ning.com/topology/rest/1.0/
 file/get/3022739606?profile=original
ATTENDEE;ROLE=REQ-PARTICIPANT;PARTSTAT=ACCEPTED;RSVP=TRUE;CN="Verarit 
 Vincent Veranondh":http://www.portfolios.net/profile/VeraritVincentVer
 anondh
ATTENDEE;ROLE=REQ-PARTICIPANT;PARTSTAT=ACCEPTED;RSVP=TRUE;CN="NEWS POR
 TFOLIOS*NET":http://www.portfolios.net/profile/AdminNews
ATTENDEE;ROLE=REQ-PARTICIPANT;PARTSTAT=TENTATIVE;RSVP=TRUE;CN="Nok Pan
 tipa":http://www.portfolios.net/profile/NokPantipa
END:VEVENT
END:VCALENDAR
