BEGIN:VCALENDAR
PRODID:NingEventWidget-v1
VERSION:2.0
METHOD:PUBLISH
BEGIN:VTIMEZONE
TZID:Asia/Bangkok
X-LIC-LOCATION:Asia/Bangkok
BEGIN:STANDARD
TZOFFSETFROM:+0700
TZOFFSETTO:+0700
TZNAME:ICT
DTSTART:19700101T000000
END:STANDARD
END:VTIMEZONE
BEGIN:VEVENT
UID:2988839:Event:1463815
DTSTAMP:20260425T091740Z
SUMMARY:งานปิด \"๑๐๐ ปีชาตกาล เฟ
 ื้อ หริพิทักษ์\"
DESCRIPTION:ขอเรียนเชิญท่านเข้า
 ่วมกิจกรรมและประชาสัมพ
 นธ์ งานปิด 100 ปีชาตกาล เฟื
 อ หริพิทักษ์ วันอาทิตย์ท
 ่ 24 เมษายน 2554 ตั้งแต่เวลา 13.
 00น. ณ หอแสดงดนตรี วิทยาลัย
 ุริยางคศิลป์ ม.มหิดล ศาล
 ยา เพื่อเป็นการร่วมรำลึ
 ถึงถึง อ.เฟื้อ หริพิทักษ์
  ศิลปินแห่งชาติ สาขาทัศน
 ิลป์ ประจำปี พ.ศ. 2528 เป็นศิ
 ปินและจิตรกรที่ได้รับกา
 รยกย่องในวงการศิลปะเป็น
 ย่างสูง ซึ่งภายในงานจะม
 กิจกรรมจากศิลปินมากมาย 
 ได้แก่ เสวนากับ อังคาร กั
 ยาณพงศ์ เทพศิริ สุขโสภา 
 ละลูกศิษย์, การวาดรูปประ
 อบการเดี่ยวระนาดเอกจาก 
 ารณ ยืนยง โดยมี เทพศิริ ส
 ขโสภา กับ สมยศ คำแสง เป็น
 ู้วาด, ละครชาตรีร่วมสมัย
 ของกลุ่มมะขามป้อม เรื่อง
  นางสิบสอง ตอน อุบายนางมา
 , ลำตัดคณะเภสัชสำราญ จาก
 หาวิทยาลัยมหาสารคาม, รับ
 ังเพลง เสียงอุษาคเนย์ แล
 ะเพลง “Impression” จากผลงานการแ
 ่งเพลงของ มรกต เชิดชูงาม
  นักศึกษาวิทยาลัยดุริยาง
 คศิลป์ ม.มหิดล ที่เพิ่งคว
 ารางวัลยอดเยี่ยมจากการ
 ระกวดรางวัลศิลปะเพื่อเย
 าวชนไทย 2553 โดยแต่งเพลงนี้
 ึ้นจากแรงบันดาลใจมาจาก
 ีวิตและผลงานของเฟื้อ หร
 พิทักษ์ โดยได้ธีรนัย จิร
 สิริกุล มาอำนวยเพลง จบด้
 วยเพลงศรีอยุธยา งานจะมี
 ึ้นในวันอาทิตย์ที่ 24 เมษ
 ยน 2554 นี้ ตั้งแต่เวลา 13.00-19.00 
 . ณ หอแสดงดนตรี วิทยาลัยด
 ริยางคศิลป์ มหาวิทยาลัย
 หิดล ศาลายา ***ไม่เสียค่า
 ช้จ่ายในการเข้าชม สอบถา
 รายละเอียดเพิ่มเติมได้ท
 ี่ www.music.mahidol.ac.th หรือ             02-800-2
 525       ต่อ 153-4 กำหนดการ งานปิ
 ด ๑๐๐ ปีชาตกาล เฟื้อ หริพิ
 ทักษ์วันอาทิตย์ที่ ๒๔ เม
 ายน ๒๕๕๔ณ หอแสดงดนตรี วิท
 ยาลัยดุริยางคศิลป์ มหาวิ
 ทยาลัยมหิดล ศาลายา๑๓.๐๐ น.
  ลงทะเบียน๑๓.๓๐ น. นายอุทั
  ดุลยเกษม อธิการบดีมหาวิ
 ยาลัยศิลปากร กล่าวเปิดง
 น๑๔.๐๐ น. เสวนากับ อังคาร 
 ัลยาณพงศ์ เทพศิริ สุขโสภ
  และลูกศิษย์๑๕.๓๐ น. วาดรู
 ปประกอบการเดี่ยวระนาดเอ
 โดย พารณ ยืนยงศิลปิน เทพ
 ิริ สุขโสภา กับ สมยศ คำแส
 ๑๖.๐๐ น. ละครชาตรีร่วมสมั
 ของกลุ่มมะขามป้อม เรื่อ
  นางสิบสอง ตอน อุบายนางมา
 ร๑๖.๓๐ น. ลำตัดคณะเภสัชสำร
 าญ จากมหาวิทยาลัยมหาสารค
 าม--พักการแสดง ๑๐ นาที--๑๗.๐
 ๐ น. เปิดรายการแสดงบนเวที
 ้วยวงเครื่องตี บรรเลงเพ
 ง เสียงอุษาคเนย์วงดนตรี 
 Wind Ensemble บรรเลงเพลง “Impression”ผลง
 านของ มรกต เชิดชูงาม ที่ไ
 ้รับแรงบันดาลใจมาจากชี
 ิตและผลงานของเฟื้อ หริพ
 ทักษ์ ธีรนัย จิระสิริกุล
  อำนวยเพลงจบด้วยเพลง ศรี
 ยุธยา ๑๗.๔๕ น. นายสุลักษณ์
  ศิวรักษ์ กล่าวปิดงานมอบ
 องที่ระลึก๑๘.๐๐ น. ศิลปิน
 ังสรรค์\n\nFor more information visit http://www.portfo
 lios.net/events/2988839:Event:1463815
DTSTART;TZID=Asia/Bangkok:20110424T130000
DTEND;TZID=Asia/Bangkok:20110424T180000
CATEGORIES:art, exhibition, music
LOCATION:College of Music, Mahidol University Salaya Campus
WEBSITE:http://www.music.mahidol.ac.th
URL:http://www.music.mahidol.ac.th
CONTACT:02 800 2525
ORGANIZER:
ATTACH;FMTTYPE="image/jpeg":http://storage.ning.com/topology/rest/1.0/
 file/get/3022717014?profile=original
ATTENDEE;ROLE=REQ-PARTICIPANT;PARTSTAT=ACCEPTED;RSVP=TRUE;CN="NEWS POR
 TFOLIOS*NET":http://www.portfolios.net/profile/AdminNews
END:VEVENT
END:VCALENDAR
