BEGIN:VCALENDAR
PRODID:NingEventWidget-v1
VERSION:2.0
METHOD:PUBLISH
BEGIN:VTIMEZONE
TZID:Asia/Bangkok
X-LIC-LOCATION:Asia/Bangkok
BEGIN:STANDARD
TZOFFSETFROM:+0700
TZOFFSETTO:+0700
TZNAME:ICT
DTSTART:19700101T000000
END:STANDARD
END:VTIMEZONE
BEGIN:VEVENT
UID:2988839:Event:3476265
DTSTAMP:20260423T131610Z
SUMMARY:นิทรรศการ \"การแสดงศิล
 กรรม ปตท ประจำปี 2561\"
DESCRIPTION:หอนิทรรศการศิลปวัฒน
 รรม มหาวิทยาลัยเชียงใหม
  ขอเชิญชม\r\nการแสดงผลงานป
 ระเภทจิตรกรรม ประติมากรร
 ม ภาพพิมพ์ และผลงานสร้าง
 รรค์ทางด้านทัศนศิลป์อื่
 นๆ จากการประกวด ศิลปกรรม 
 ตท ครั้งที่ 33 และ การประก
 ดศิลปกรรม ปตท ภาคเหนือ คร
 ั้งที่ 19 ภายใต้หัวข้อ \"ภูม
 ิใจไทยแลนด์\"\r\nระหว่างวัน
 ี่ 7 ธันวาคม 2561 ถึง 6 มกราคม 2
 562\r\nพิธีเปิดวันที่ 14 ธันวา
 ม 2561 เวลา 09.00 น.\n\nFor more information visit http:/
 /www.portfolios.net/events/2561-2
DTSTART;TZID=Asia/Bangkok:20181209T000000
DTEND;TZID=Asia/Bangkok:20190106T235900
CATEGORIES:art, exhibition, painting
LOCATION:cmu art center
WEBSITE:
URL:
CONTACT:
ORGANIZER;CN="NEWS PORTFOLIOS*NET":http://www.portfolios.net/profile/A
 dminNews
ATTACH;FMTTYPE="image/jpeg":https://storage.ning.com/topology/rest/1.0
 /file/get/295725665?profile=original
ATTENDEE;ROLE=REQ-PARTICIPANT;PARTSTAT=ACCEPTED;RSVP=TRUE;CN="NEWS POR
 TFOLIOS*NET":http://www.portfolios.net/profile/AdminNews
END:VEVENT
END:VCALENDAR
