BEGIN:VCALENDAR
PRODID:NingEventWidget-v1
VERSION:2.0
METHOD:PUBLISH
BEGIN:VTIMEZONE
TZID:Asia/Bangkok
X-LIC-LOCATION:Asia/Bangkok
BEGIN:STANDARD
TZOFFSETFROM:+0700
TZOFFSETTO:+0700
TZNAME:ICT
DTSTART:19700101T000000
END:STANDARD
END:VTIMEZONE
BEGIN:VEVENT
UID:2988839:Event:3195578
DTSTAMP:20260421T025523Z
SUMMARY:นิทรรศการ \"ภาพศิลปะเด
 กจากการประกวดศิลปกรรมยุ
 วพัฒน์ ครั้งที่ 21\"
DESCRIPTION:นิทรรศการภาพศิลปะเด
 กจากการประกวดศิลปกรรมย
 วพัฒน์ ครั้งที่ 21 ประจำปี 
 พ.ศ. 2557วันที่ : 27 มกราคม - 08 กุม
 ภาพันธ์ 2558\n\nFor more information visit http://www.po
 rtfolios.net/events/21-1
DTSTART;TZID=Asia/Bangkok:20150127T000000
DTEND;TZID=Asia/Bangkok:20150208T235900
CATEGORIES:art, exhibition
LOCATION:Bangkok Art and Culture Centre
WEBSITE:http://www.bacc.or.th
URL:http://www.bacc.or.th
CONTACT:02 214 6630-8
ORGANIZER:
ATTACH;FMTTYPE="image/jpeg":http://storage.ning.com/topology/rest/1.0/
 file/get/3023339201?profile=original
ATTENDEE;ROLE=REQ-PARTICIPANT;PARTSTAT=ACCEPTED;RSVP=TRUE;CN="NEWS POR
 TFOLIOS*NET":http://www.portfolios.net/profile/AdminNews
END:VEVENT
END:VCALENDAR
