BEGIN:VCALENDAR
PRODID:NingEventWidget-v1
VERSION:2.0
METHOD:PUBLISH
BEGIN:VTIMEZONE
TZID:Asia/Bangkok
X-LIC-LOCATION:Asia/Bangkok
BEGIN:STANDARD
TZOFFSETFROM:+0700
TZOFFSETTO:+0700
TZNAME:ICT
DTSTART:19700101T000000
END:STANDARD
END:VTIMEZONE
BEGIN:VEVENT
UID:2988839:Event:2519183
DTSTAMP:20260422T065544Z
SUMMARY:นิทรรศการ ”สองอารมณ์” 
 (2 Feeling)
DESCRIPTION:นิทรรศการ ” สองอารมณ
  ” 2 Feeling โดย ยุทธนา พงศ์ผาสุ
  และ ชิงชัย อุดมกิจเจริญ\n
 พิธีเปิดนิทรรศการในวันท
 ่ 6 กรกฎาคม 2555 เวลา 18.30 น. ณ หอ
 ิลป์เซเว่นรังสรรค์ ซ.สาท
 ร 5\nนิทรรศการเปิดแสดงระหว
 ่างวันที่ 6 ก.ค.-3 ส.ค. 2555\n\nFor more inf
 ormation visit http://www.portfolios.net/events/2-feeling-1
DTSTART;TZID=Asia/Bangkok:20120706T000000
DTEND;TZID=Asia/Bangkok:20120803T235900
CATEGORIES:art, exhibition, painting
LOCATION:Theseven Art Gallery
WEBSITE:http://www.thesevenartgallery.com
URL:http://www.thesevenartgallery.com
CONTACT:02 638 2315
ORGANIZER:
ATTACH;FMTTYPE="image/jpeg":http://storage.ning.com/topology/rest/1.0/
 file/get/3022942354?profile=original
ATTENDEE;ROLE=REQ-PARTICIPANT;PARTSTAT=ACCEPTED;RSVP=TRUE;CN="NEWS POR
 TFOLIOS*NET":http://www.portfolios.net/profile/AdminNews
END:VEVENT
END:VCALENDAR
